BEGIN:VCALENDAR
VERSION:2.0
PRODID:-//NEIS - ECPv6.0.11//NONSGML v1.0//EN
CALSCALE:GREGORIAN
METHOD:PUBLISH
X-WR-CALNAME:NEIS
X-ORIGINAL-URL:http://neis.org
X-WR-CALDESC:Events for NEIS
REFRESH-INTERVAL;VALUE=DURATION:PT1H
X-Robots-Tag:noindex
X-PUBLISHED-TTL:PT1H
BEGIN:VTIMEZONE
TZID:UTC
BEGIN:STANDARD
TZOFFSETFROM:+0000
TZOFFSETTO:+0000
TZNAME:UTC
DTSTART:20200101T000000
END:STANDARD
END:VTIMEZONE
BEGIN:VEVENT
DTSTART;TZID=UTC:20230522T190000
DTEND;TZID=UTC:20230522T203000
DTSTAMP:20260420T201540
CREATED:20230518T011411Z
LAST-MODIFIED:20230518T011411Z
UID:23154-1684782000-1684787400@neis.org
SUMMARY:May Meme the Media
DESCRIPTION:Hi there\, \nYou are invited to a Zoom meeting.\nWhen: May 22\, 2023 07:00 PM Central Time (US and Canada) \nRegister in advance for this meeting:\nhttps://us02web.zoom.us/meeting/register/tZEvduytqjsuE9XrnHfnZbTG82tVfEoblgQz \nAfter registering\, you will receive a confirmation email containing information about joining the meeting.
URL:http://neis.org/event/may-meme-the-media/
LOCATION:on ZOOM
CATEGORIES:direct action,NEIS
ORGANIZER;CN="NEIS":MAILTO:neis@neis.org
END:VEVENT
BEGIN:VEVENT
DTSTART;TZID=UTC:20210121T080000
DTEND;TZID=UTC:20210121T170000
DTSTAMP:20260420T201540
CREATED:20210121T150021Z
LAST-MODIFIED:20210121T211905Z
UID:22601-1611216000-1611248400@neis.org
SUMMARY:NEIS ACTION ALERT  Major actions next two weeks -- you’re invited for COVID-safe participation!
DESCRIPTION:NEIS ACTION ALERT \nMajor actions next two weeks — you’re invited for COVID-safe participation! \nGreetings All – \nThis week\, on Friday January 22\, the international Treaty on the Prohibition of Nuclear Weapons  (TPNW) goes into LEGALLY BINDING effect that prohibits the use\, manufacture\, possession and sharing of nuclear weapons.  This is a major international milestone in ending our march towards Armageddon. \nTo mark this historic moment\, NEIS invites you to a series of events and actions: \nTPNW Webinar\, and Nukes Banned!-Car Caravan for Peace:\n\nZOOM Panel of Experts\, Thursday\, January 21\, 6 p.m. CTZ;  ZOOM registration link here\n\nJoin this group of nuclear weapons experts on Zoom to learn more about the significance of the Ban Treaty entering into force\, and what the United States can do to move toward nuclear weapons abolition. \n  \nPanelists include: \n\nLauraGrego\,PhD\, Senior Scientist\, Global Security Program\, Union of Concerned Scientists\nTaraDrozdenko\, PhD\, Acting Executive Director\, Outrider Foundation\nDoug Shaw\,PhD\, Consultant\, Nuclear Disarmament and Pentagon Spending\, Friends Committee on National Legislation\nPanel moderator: Rachel Bronson\, PhD\, President and CEO\, Bulletin of Atomic Scientists\n\n  \n\nNukes Banned! Car Caravan for Peace\, Friday\, January 22\, 12 noon- 1:00 p.m.\, car caravan for peace circles Federal Plaza in Chicago (Clark and Dearborn Streets\, downtown Chicago).\nVolunteer drivers are needed for the car caravan. 100% COVID-safe\, since no one will have to leave their cars.  Rendezvous to get signage at 11 a.m.  Ten more drivers needed!\nSign-up for the caravan (details will be sent to you after you register)\nFacebook event \n\n  \nNight with the Experts:  The Weapons/Reactor Connections:\nThe next installment of this increasingly popular monthly series will connect the dots that exist between the so-called “Peaceful Atom” and nuclear weapons: \nNuclear Power and Weapons – The Connections \nThursday\, January 28\, 2021\,  7 p.m. CTZ \nZOOM link:  click here to join the session (use a computer with camera and microphone for best experience.  You do not need to have ZOOM installed on your device to participate.) \nDr. Arjun Makhijani \nDirector\,  Institute for Energy and Environmental Research (IEER)\, Takoma Park\, MD. \nOn January 22\, the International Treaty for the Prohibition of Nuclear Weapons will come into full force\, having been ratified now by 51 parties of the 86 sovereign signatories to the treaty. This is the most important international agreement on nuclear weapons since the Non -Proliferation Treaty came into force in 1970\, a treaty that the United States was instrumental in bringing to fruition.  What people and governments constantly overlook is that nuclear weapons programs often come from nuclear power programs around the world – linking the two inextricably. \nDr. Makhijani is an engineer\, physicist and noted national energy expert.  He is author of the 2007 book\, Carbon Free – Nuclear Free: A Roadmap for U.S. Energy Policy (available in PDF online here)\, which predates the Green New Deal in any form by nearly a decade.  The Renewable Maryland Project updates this work comprehensively\, including all aspects of the energy transition from hour-by-hour modeling to energy equity and a just transition for fossil fuel workers.  He has written extensively on the issues of disarmament and nonproliferation. \n  \n 
URL:http://neis.org/event/neis-action-alert-major-actions-next-two-weeks-youre-invited-for-covid-safe-participation/
CATEGORIES:direct action,Night with the Experts
END:VEVENT
BEGIN:VEVENT
DTSTART;TZID=UTC:20200313T190000
DTEND;TZID=UTC:20200313T210000
DTSTAMP:20260420T201540
CREATED:20200227T170416Z
LAST-MODIFIED:20200227T171031Z
UID:22513-1584126000-1584133200@neis.org
SUMMARY:Movie Night: "Power Struggle"
DESCRIPTION:Movie and discussion.  Unitarian Church of Naperville.
URL:http://neis.org/event/movie-night-power-struggle/
LOCATION:Unitarian Church of Naperville\, 828 Old Naperville Rd\, Naperville\, IL\, 60563
CATEGORIES:direct action
ORGANIZER;CN="NEIS":MAILTO:neis@neis.org
END:VEVENT
END:VCALENDAR