BEGIN:VCALENDAR
VERSION:2.0
PRODID:-//NEIS - ECPv6.0.11//NONSGML v1.0//EN
CALSCALE:GREGORIAN
METHOD:PUBLISH
X-WR-CALNAME:NEIS
X-ORIGINAL-URL:http://neis.org
X-WR-CALDESC:Events for NEIS
REFRESH-INTERVAL;VALUE=DURATION:PT1H
X-Robots-Tag:noindex
X-PUBLISHED-TTL:PT1H
BEGIN:VTIMEZONE
TZID:UTC
BEGIN:STANDARD
TZOFFSETFROM:+0000
TZOFFSETTO:+0000
TZNAME:UTC
DTSTART:20180101T000000
END:STANDARD
END:VTIMEZONE
BEGIN:VEVENT
DTSTART;TZID=UTC:20251218T190000
DTEND;TZID=UTC:20251218T210000
DTSTAMP:20260424T122544
CREATED:20251126T173159Z
LAST-MODIFIED:20251126T173159Z
UID:23417-1766084400-1766091600@neis.org
SUMMARY:SPECIAL NWTE:  Crisis / Opportunity in radiation protection\, featuring Mary Olson
DESCRIPTION:Mary Olson will give a short update on the Executive Order 14300 (May 2025) that directs change in radiation standards at NRC\, as well as new findings that constitute the front-end of a new radiation science required because of new understanding in disproportionate harm\, including age\, sex\, and internal exposure from radioactive pollution in our air\, food\, and water.\nDISCUSSION: How can we as a community USE the White House bad actions to create openings for rewriting what has been bad protection all along–and do with broad collaboration.\nZOOM link: \nhttps://us02web.zoom.us/j/88089470932?pwd=gMrsMgb53M1cMba4aoKOpAYzAfhR4c.1 \nRecent report coauthored by Mary Olson:\nGender and Ionizing Radiation: Towards a New Research Agenda Addressing Disproportionate Harm\n20 November 2024\n\nDownload for free here:\nhttps://unidir.org/publication/gender-and-ionizing-radiation-towards-a-new-research-agenda-addressing-disproportionate-harm/
URL:http://neis.org/event/special-nwte-crisis-opportunity-in-radiation-protection-featuring-mary-olson/
LOCATION:on ZOOM
CATEGORIES:NEIS,Night with the Experts,Radiation
END:VEVENT
BEGIN:VEVENT
DTSTART;TZID=UTC:20250622T150000
DTEND;TZID=UTC:20250622T170000
DTSTAMP:20260424T122544
CREATED:20250527T034610Z
LAST-MODIFIED:20250527T034610Z
UID:23358-1750604400-1750611600@neis.org
SUMMARY:Save the Date! Announcing… NEIS 2025 Annual Meeting
DESCRIPTION:Announcing… \nNEIS 2025 Annual Meeting\nSunday\, June 22\, 2025\n3:00 – 5:00 p.m.\nA ZOOM virtual meeting for NEIS members in good standing and guests \nDetails to come in a future e-mail with the event agenda and description.   \nZOOM Link will be sent upon your registration. You do not have to have a ZOOM account to attend.   \nWe hope to see you at the session! \n–The NEIS Board–
URL:http://neis.org/event/save-the-date-announcing-neis-2025-annual-meeting/
LOCATION:on ZOOM
CATEGORIES:NEIS
ORGANIZER;CN="NEIS":MAILTO:neis@neis.org
END:VEVENT
BEGIN:VEVENT
DTSTART;TZID=UTC:20230629T190000
DTEND;TZID=UTC:20230629T210000
DTSTAMP:20260424T122544
CREATED:20230626T205645Z
LAST-MODIFIED:20230626T205825Z
UID:23190-1688065200-1688072400@neis.org
SUMMARY:JUNE NIGHT WITH THE EXPERTS: Why Are We Still Going Nuclear? --  with Alfred Meyer
DESCRIPTION:You’re Invited to\nA Night with the Experts\nFeaturing: \nAlfred Meyer\nSocial Activist\nSpeaking on\nWhy Are We Still Going Nuclear?\nThursday\, June 29\, 2023\n7pm Central Time (8pm ET\, 6pm MT\, 5pm PT) UTC -5\nRegistration for the Zoom Link is required: click here \nAfter 78 years under the mushroom cloud threat of nuclear weapons to end human life on earth\, the United States of America\, which now spends more on annual military expenditures than the combined expenditures of the next eight world militaries combined\, still maintains nuclear weapons as the dominant centerpiece of our national “security” strategy. \nDoes this really make us safe and secure? Or would joining the Treaty for the Prohibition of Nuclear Weapons (TPNW) provide greater security and safety? \nThe vast military/industrial/academic/congressional infrastructure needed for the nuclear enterprise to continue developing and producing new nuclear weapons and reactors for the nuclear Navy is driving the current international nuclear arms race. Civilian nuclear power is an “essential enabler” of U.S. nuclear weapons and our nuclear-powered navy. \nIf we want to eliminate the existential threats posed by the nuclear enterprise\, we need to understand the fundamental drivers behind it\, currently being expressed by the well-coordinated promotion of Small Modular Nuclear Reactors. This understanding is essential for influencing the trajectory of new nuclear development—our future hangs in the balance. \nAlfred Meyer is a social activist who has worked with a number of non-profit organizations addressing various aspects of the nuclear enterprise and its threats to life on earth. They include Physicians for Social Responsibility (PSR) in Wisconsin\, Washington DC\, and New York\, the Alliance for Nuclear Accountability and Peace Action in Washington DC\, the Manhattan Project for a Nuclear Free World in New York City and Friends of Chernobyl Centers United States in Madison\, Wisconsin. \nMore recently\, Mr. Meyer has written several articles for The Progressive magazine: \nIt’s All About the Bomb \n‘F’ Is for Failure
URL:http://neis.org/event/june-night-with-the-experts-why-are-we-still-going-nuclear-with-alfred-meyer/
LOCATION:on ZOOM
CATEGORIES:NEIS,Night with the Experts
ATTACH;FMTTYPE=image/jpeg:https://neis.org/wp-content/uploads/2023/06/Alfred-Meyer.jpg
ORGANIZER;CN="NEIS":MAILTO:neis@neis.org
END:VEVENT
BEGIN:VEVENT
DTSTART;TZID=UTC:20230611T150000
DTEND;TZID=UTC:20230611T150000
DTSTAMP:20260424T122544
CREATED:20230518T005545Z
LAST-MODIFIED:20230518T005545Z
UID:23147-1686495600-1686495600@neis.org
SUMMARY:Save the Date:  NEIS 2023 Annual Meeting June 11th
DESCRIPTION:Save the Date!\n\n\n\n\n\n\n\n\n\n\n\n\n\n\n\n\n\n\n\n\n\n\n\n\n\n\n\n\n\n\n\n\n\n\n\n\nWe invite members in good standing to our\nNEIS 2023 ANNUAL MEETING\nSunday\, June 11\, 3:00 PM CT\nvia Zoom\n\n\n\n\n\n\n\n\n\n\n\n\n\n\n\nWe invite you to our 2023 Annual Meeting\, held once again on ZOOM. It’s open to NEIS members in good standing and their guests. If your membership has lapsed\, please renew before the Meeting. If you’re not a member\, consider joining (suggested $30 per year). \nRegistration for the Annual Meeting is required. \nWe have much to talk about\, lots to share\, and some great plans for the coming year!  \nFor our Special Program\, we’re excited to show the documentary\, Atomic Bamboozle\, followed by a discussion with the film producer\, Janice Haaken. \n \n 
URL:http://neis.org/event/save-the-date-neis-2023-annual-meeting-june-11th/
LOCATION:on ZOOM
CATEGORIES:NEIS
ORGANIZER;CN="NEIS":MAILTO:neis@neis.org
END:VEVENT
BEGIN:VEVENT
DTSTART;TZID=UTC:20230525T190000
DTEND;TZID=UTC:20230525T210000
DTSTAMP:20260424T122544
CREATED:20230518T010834Z
LAST-MODIFIED:20230518T011459Z
UID:23150-1685041200-1685048400@neis.org
SUMMARY:May Night with the Experts featuring -- Arnie Gundersen speaking "Hot Particles" and more
DESCRIPTION:Our friend and colleague the celebrated Arnie Gundersen will join us for the May monthly NWTE program\, speaking about “hot particles” at contaminated sites — like Fukushima and the Zion NPP in Illinois \nThe ZOOM information to join us: \nDavid Kraft is inviting you to a scheduled Zoom meeting. \nTopic: Night with the Experts\nTime: May 25\, 2023 07:00 PM Central Time (US and Canada)\nJoin Zoom Meeting\nhttps://us02web.zoom.us/j/83055280771?pwd=MC80OG5EdTFKQVdjREZBdzFMbVpqdz09 \nMeeting ID: 830 5528 0771\nPasscode: 296769\nOne tap mobile\n+13126266799\,\,83055280771#\,\,\,\,*296769# US (Chicago)\n+13092053325\,\,83055280771#\,\,\,\,*296769# US \nDial by your location\n+1 312 626 6799 US (Chicago)\n+1 309 205 3325 US\n+1 305 224 1968 US\n+1 646 558 8656 US (New York)\n+1 646 931 3860 US\n+1 301 715 8592 US (Washington DC)\n+1 719 359 4580 US\n+1 253 205 0468 US\n+1 253 215 8782 US (Tacoma)\n+1 346 248 7799 US (Houston)\n+1 360 209 5623 US\n+1 386 347 5053 US\n+1 507 473 4847 US\n+1 564 217 2000 US\n+1 669 444 9171 US\n+1 669 900 9128 US (San Jose)\n+1 689 278 1000 US\nMeeting ID: 830 5528 0771\nPasscode: 296769\nFind your local number: https://us02web.zoom.us/u/kdMflL1rNg \nEvery month on the last Thu\, until Jul 25\, 2024\,\nMay 25\, 2023 07:00 PM\nJun 29\, 2023 07:00 PM\nJul 27\, 2023 07:00 PM\nAug 31\, 2023 07:00 PM\nSep 28\, 2023 07:00 PM\nOct 26\, 2023 07:00 PM\nNov 30\, 2023 07:00 PM\nDec 28\, 2023 07:00 PM\nJan 25\, 2024 07:00 PM\nFeb 29\, 2024 07:00 PM\nMar 28\, 2024 07:00 PM\nApr 25\, 2024 07:00 PM\nMay 30\, 2024 07:00 PM\nJun 27\, 2024 07:00 PM\nJul 25\, 2024 07:00 PM\nPlease download and import the following iCalendar (.ics) files to your calendar system.\nMonthly: https://us02web.zoom.us/meeting/tZctcuyqpjstHdUNFNDGtMBJVSw1J2eGGHfd/ics?icsToken=98tyKuGrrj4vGNyVtx6GRpwqAo_4Z-rxiGJagqdosjnLJwdHTyHcANFVY5gtFf_3
URL:http://neis.org/event/may-night-with-the-experts-featuring-arnie-gundersen-speaking-hot-particles-and-more/
LOCATION:on ZOOM
CATEGORIES:NEIS,Night with the Experts
ATTACH;FMTTYPE=image/jpeg:https://neis.org/wp-content/uploads/2023/05/arnie-gundersen.jpg
END:VEVENT
BEGIN:VEVENT
DTSTART;TZID=UTC:20230522T190000
DTEND;TZID=UTC:20230522T203000
DTSTAMP:20260424T122544
CREATED:20230518T011411Z
LAST-MODIFIED:20230518T011411Z
UID:23154-1684782000-1684787400@neis.org
SUMMARY:May Meme the Media
DESCRIPTION:Hi there\, \nYou are invited to a Zoom meeting.\nWhen: May 22\, 2023 07:00 PM Central Time (US and Canada) \nRegister in advance for this meeting:\nhttps://us02web.zoom.us/meeting/register/tZEvduytqjsuE9XrnHfnZbTG82tVfEoblgQz \nAfter registering\, you will receive a confirmation email containing information about joining the meeting.
URL:http://neis.org/event/may-meme-the-media/
LOCATION:on ZOOM
CATEGORIES:direct action,NEIS
ORGANIZER;CN="NEIS":MAILTO:neis@neis.org
END:VEVENT
BEGIN:VEVENT
DTSTART;TZID=UTC:20181210T190000
DTEND;TZID=UTC:20181210T210000
DTSTAMP:20260424T122544
CREATED:20180820T202837Z
LAST-MODIFIED:20200227T171041Z
UID:3109-1544468400-1544475600@neis.org
SUMMARY:NEIS Board Meeting
DESCRIPTION:
URL:http://neis.org/event/neis-board-meeting-2018-12-10/
LOCATION:NEIS Office Conference Room\, 3411 W. Diversey\, Ste. 16\, Chicago\, IL\, United States
CATEGORIES:NEIS
ORGANIZER;CN="NEIS":MAILTO:neis@neis.org
END:VEVENT
END:VCALENDAR