BEGIN:VCALENDAR
VERSION:2.0
PRODID:-//NEIS - ECPv6.0.11//NONSGML v1.0//EN
CALSCALE:GREGORIAN
METHOD:PUBLISH
X-ORIGINAL-URL:http://neis.org
X-WR-CALDESC:Events for NEIS
REFRESH-INTERVAL;VALUE=DURATION:PT1H
X-Robots-Tag:noindex
X-PUBLISHED-TTL:PT1H
BEGIN:VTIMEZONE
TZID:UTC
BEGIN:STANDARD
TZOFFSETFROM:+0000
TZOFFSETTO:+0000
TZNAME:UTC
DTSTART:20250101T000000
END:STANDARD
END:VTIMEZONE
BEGIN:VEVENT
DTSTART;TZID=UTC:20250925T190000
DTEND;TZID=UTC:20250925T210000
DTSTAMP:20260420T164825
CREATED:20250920T174240Z
LAST-MODIFIED:20250920T174240Z
UID:23382-1758826800-1758834000@neis.org
SUMMARY:Sept. Night with the Experts:  Repealing Nuclear Moratoria Endangers A Renewable Energy Future
DESCRIPTION:Registration for the Zoom Link is required:  click here *\nThis program will examine why nuclear moratoria repeal in Illinois and around the nation is terrible energy and environmental policy\, and has the potential of reversing gains made towards expanding renewable energy\, energy storage and transmission. These lessons apply to all the other states whose moratorium is similarly under threat of repeal.
URL:http://neis.org/event/sept-night-with-the-experts-repealing-nuclear-moratoria-endangers-a-renewable-energy-future/
LOCATION:on ZOOM
END:VEVENT
END:VCALENDAR